BEGIN:VCALENDAR
VERSION:2.0
PRODID:-//EFS - ECPv5.5.0.1//NONSGML v1.0//EN
CALSCALE:GREGORIAN
METHOD:PUBLISH
X-WR-CALNAME:EFS
X-ORIGINAL-URL:https://www.efs.nu
X-WR-CALDESC:Events for EFS
BEGIN:VTIMEZONE
TZID:Europe/Stockholm
BEGIN:DAYLIGHT
TZOFFSETFROM:+0100
TZOFFSETTO:+0200
TZNAME:CEST
DTSTART:20240331T010000
END:DAYLIGHT
BEGIN:STANDARD
TZOFFSETFROM:+0200
TZOFFSETTO:+0100
TZNAME:CET
DTSTART:20241027T010000
END:STANDARD
BEGIN:DAYLIGHT
TZOFFSETFROM:+0100
TZOFFSETTO:+0200
TZNAME:CEST
DTSTART:20250330T010000
END:DAYLIGHT
BEGIN:STANDARD
TZOFFSETFROM:+0200
TZOFFSETTO:+0100
TZNAME:CET
DTSTART:20251026T010000
END:STANDARD
END:VTIMEZONE
BEGIN:VEVENT
DTSTART;TZID=Europe/Stockholm:20241217T190000
DTEND;TZID=Europe/Stockholm:20241217T200000
DTSTAMP:20260420T131633
CREATED:20240925T113913Z
LAST-MODIFIED:20240925T114514Z
UID:70334-1734462000-1734465600@www.efs.nu
SUMMARY:Internationell kväll – Etiopien
DESCRIPTION:Välkommen att titta på EFS internationella kväll som sänds på Facebook. Det går bra att titta utan ett Facebook-konto\, men vill du inte göra det kommer kvällen att sändas senare på EFSplay.nu. Denna kväll handlar om EFS arbete i Etiopien.
URL:https://www.efs.nu/kalender/internationell-kvall-etiopien/
CATEGORIES:Online
END:VEVENT
BEGIN:VEVENT
DTSTART;VALUE=DATE:20241228
DTEND;VALUE=DATE:20250102
DTSTAMP:20260420T131633
CREATED:20241114T104727Z
LAST-MODIFIED:20241114T124827Z
UID:70580-1735344000-1735775999@www.efs.nu
SUMMARY:Livskraft norr 2024/2025
DESCRIPTION:Avsluta det gamla året och börja det nya på bästa sätt!! Nyårsläger med kära återseenden\, nya vänner\, tjocksockar\, lägerliv\, Jesus\, nyårspirr\, lovsång\, bön\, samtal\, lek och skratt! Allt som hör lägerlivet till!\n\nVarje kväll bjuder vi in till gudstjänst där vi får utforska olika teman tillsammans. Varje dag finns det olika seminarier och bibelstudier att välja mellan.\nSista anmälningsdag: 17 december 2024\nEarly Bird – anmäl dig innan 30 november så får ni 100 kr rabatt  \nNär?\n28 december 2023 – 1 januari 2024 \nVar?\nStrömbäcks folkhögskola\, Umeå \nVem kan komma?\nLägret riktar sig till dig som är 15-25 år\, dvs går i årskurs 9 och uppåt. Oavsett om du har en tro eller inte är du välkommen på lägret. \n  \nLäs mer och anmäl dig på Livskraft Norrs hemsida!
URL:https://www.efs.nu/kalender/livskraft-norr-2024-2025/
LOCATION:Strömbäcks Folkhögskola
CATEGORIES:Västerbotten
ATTACH;FMTTYPE=image/jpeg:https://www.efs.nu/wp-content/uploads/2024/11/Livskraft-Norr-instagram-kvadrat-scaled.jpg
END:VEVENT
END:VCALENDAR