BEGIN:VCALENDAR
VERSION:2.0
PRODID:-//EFS - ECPv5.5.0.1//NONSGML v1.0//EN
CALSCALE:GREGORIAN
METHOD:PUBLISH
X-WR-CALNAME:EFS
X-ORIGINAL-URL:https://www.efs.nu
X-WR-CALDESC:Events for EFS
BEGIN:VTIMEZONE
TZID:Europe/Stockholm
BEGIN:DAYLIGHT
TZOFFSETFROM:+0100
TZOFFSETTO:+0200
TZNAME:CEST
DTSTART:20250330T010000
END:DAYLIGHT
BEGIN:STANDARD
TZOFFSETFROM:+0200
TZOFFSETTO:+0100
TZNAME:CET
DTSTART:20251026T010000
END:STANDARD
BEGIN:DAYLIGHT
TZOFFSETFROM:+0100
TZOFFSETTO:+0200
TZNAME:CEST
DTSTART:20260329T010000
END:DAYLIGHT
BEGIN:STANDARD
TZOFFSETFROM:+0200
TZOFFSETTO:+0100
TZNAME:CET
DTSTART:20261025T010000
END:STANDARD
END:VTIMEZONE
BEGIN:VEVENT
DTSTART;TZID=Europe/Stockholm:20251216T190000
DTEND;TZID=Europe/Stockholm:20251216T200000
DTSTAMP:20260419T212212
CREATED:20251006T115834Z
LAST-MODIFIED:20251006T115834Z
UID:72038-1765911600-1765915200@www.efs.nu
SUMMARY:Internationell kväll
DESCRIPTION:EFS internationella kvällar sänds på EFS Facebook-sida.\nEn timma om EFS internationella mission.
URL:https://www.efs.nu/kalender/internationell-kvall-3/
CATEGORIES:EFS,Online
END:VEVENT
BEGIN:VEVENT
DTSTART;TZID=Europe/Stockholm:20251219T080000
DTEND;TZID=Europe/Stockholm:20251219T170000
DTSTAMP:20260419T212212
CREATED:20251219T095221Z
LAST-MODIFIED:20251219T095528Z
UID:72504-1766131200-1766163600@www.efs.nu
SUMMARY:Stockholm\, gudstjänst: »kampen mot ondskan« med Kerstin Oderhem\, Hammarbykyrkan\, 11.00
DESCRIPTION:Kerstin Oderhem kommer att hålla en predikan på temat Kampen mot ondskan i Hammarbykyrkan 11.00.
URL:https://www.efs.nu/kalender/stockholm-gudstjanst-kampen-mot-ondskan-med-kerstin-oderhem-hammarbykyrkan-11-00/
ATTACH;FMTTYPE=image/jpeg:https://www.efs.nu/wp-content/uploads/2025/10/MisAmb_EFSnu.jpg
END:VEVENT
BEGIN:VEVENT
DTSTART;TZID=Europe/Stockholm:20251228T080000
DTEND;TZID=Europe/Stockholm:20260101T170000
DTSTAMP:20260419T212212
CREATED:20251117T155436Z
LAST-MODIFIED:20251117T155436Z
UID:72250-1766908800-1767286800@www.efs.nu
SUMMARY:Livskraft – läger för tonåringar och ungdomar
DESCRIPTION:Livskraft är ett nyårsläger för tonåringar och ungdomar som arrangeras på fyra platser i Sverige: Älvsbyn\, Umeå\, Uppsala och Helsingborg. Just i år kommer Älvsbyns läger att ställas in\, men ersätts av ett läger som Krik anordnar. Läs mer i länken nedan.
URL:https://www.efs.nu/kalender/livskraft-lager-for-tonaringar-och-ungdomar/
END:VEVENT
BEGIN:VEVENT
DTSTART;VALUE=DATE:20251230
DTEND;VALUE=DATE:20260101
DTSTAMP:20260419T212212
CREATED:20251120T125853Z
LAST-MODIFIED:20251120T125853Z
UID:72318-1767052800-1767225599@www.efs.nu
SUMMARY:Nyår på Tallheds
DESCRIPTION:Du som går åk 8 och uppåt – häng med på två dagar i Piteå fyllda av KRIK-turnering\, ungdomsgudstjänster\, aktiviteter\, nyårsfirande och massa annat kul!\nNär/Var/Hur?\nNär? Tisdag 30 dec och Onsdag 31 dec\nVar? Tallhedskyrkan och Hortlax Sporthall\nFör vem? Från åk 8 och uppåt \nUpplägg\nTisdag 30/12\n– 10.00 Spikeball-Turnering i Hortlax sporthall\nGruppspel\, Lunch\, Andakt\, Slutspel\n– 17.00 Middag i Tallhedskyrkan\n– 19.00 Ungdomsgudstjänst i Tallhedskyrkan\nFika\, aktivitet\, häng \nOnsdag 31/12 (Nyårsafton)\n– 10.30 Storsamling\, Bibelpass\n– 12.00 Lunch\n– Valbara aktiviteter / Nyårsfix\n– 17.00 Middag\n– 21.00 Ungdomsgudstjänst\n– 00.00 Gott nytt år!!\n– Firandet fortsätter till 02.00 för de som vill \nSpikeball-Turnering\nSpikeball spelas 2 mot 2 och lagen görs på plats. Innan turneringen börjar kommer det finnas tid till att öva och lära sig reglerna! Här kan du kika på ett kort klipp om hur Spikeball spelas: https://www.youtube.com/watch?v=tc1pEqCGWnw \nKostnad\n\nTurnering inkl. lunch 100:-\nMiddag efter turneringen 50:-\nLunch nyårsafton 50:-\nNyårsmiddag (förrätt\, varmrätt\, efterrätt) 200:-\n\nBetalning sker på plats via Swish. \nAnmälan\nAnmäl dig här: Nyår på Tallheds\nAnmälan stänger 21/12 \nIngen anmälan om du bara vill komma på gudstjänsterna! \nKontakt\nUndrar du något? Kontakta Ellen Lidberg 073-0601552 / ellen.lidberg@efs.nu
URL:https://www.efs.nu/kalender/nyar-pa-tallheds/
LOCATION:Tallhedskyrkan\, Idrottsvägen 5\, Piteå\, 94472\, Sverige
CATEGORIES:Norrbotten
END:VEVENT
END:VCALENDAR