BEGIN:VCALENDAR
VERSION:2.0
PRODID:-//EFS - ECPv5.5.0.1//NONSGML v1.0//EN
CALSCALE:GREGORIAN
METHOD:PUBLISH
X-WR-CALNAME:EFS
X-ORIGINAL-URL:https://www.efs.nu
X-WR-CALDESC:Events for EFS
BEGIN:VTIMEZONE
TZID:Europe/Stockholm
BEGIN:DAYLIGHT
TZOFFSETFROM:+0100
TZOFFSETTO:+0200
TZNAME:CEST
DTSTART:20260329T010000
END:DAYLIGHT
BEGIN:STANDARD
TZOFFSETFROM:+0200
TZOFFSETTO:+0100
TZNAME:CET
DTSTART:20261025T010000
END:STANDARD
END:VTIMEZONE
BEGIN:VEVENT
DTSTART;VALUE=DATE:20260228
DTEND;VALUE=DATE:20260305
DTSTAMP:20260419T151300
CREATED:20251125T134123Z
LAST-MODIFIED:20251125T134123Z
UID:72347-1772236800-1772668799@www.efs.nu
SUMMARY:Sportlovsläger
DESCRIPTION:Sportlovsläger i Klippen\, Hemavan \nLäs mer på efsvasterbotten.se
URL:https://www.efs.nu/kalender/sportlovslager/
CATEGORIES:Västerbotten
END:VEVENT
BEGIN:VEVENT
DTSTART;TZID=Europe/Stockholm:20260228T180000
DTEND;TZID=Europe/Stockholm:20260228T200000
DTSTAMP:20260419T151300
CREATED:20260212T074916Z
LAST-MODIFIED:20260212T080318Z
UID:72726-1772301600-1772308800@www.efs.nu
SUMMARY:Psalmgalan – Sjung för livet 2026
DESCRIPTION:Den 28 februari bjuder Lutherska Missionskyrkans kör och orkester återigen in till den storslagna psalmgalan Sjung för livet i Annedalskyrkan i Göteborg. Galan\, där publiken både får sjunga med och lyssna till psalmer i nya musikaliska dräkter\, hålls liksom tidigare år till förmån för EFS biståndsarbete i Somalia.\nDet blir åttonde året i rad som kören och orkestern från Lutherska missionskyrkan i Göteborg bjuder in till psalmgala. Konceptet är detsamma som tidigare; publiken får vara med och sjunga psalmer och lovsånger tillsammans med stor kör och orkester och lyssna till älskade solister. Varje år är det dock ett helt nytt program som presenteras. »Några favoriter får tas bort\, nya kommer till och andra återkommer. Det är alltid lika roligt att tillsammans med Sven och Johanna Fridolfsson mejsla fram ett program\, och jag förundras alltid över de nya arrangemang och fanfarer som Sven skrivit till psalmerna« säger Rebecka Bramsved\, som liksom tidigare år kommer att vara galans konferencier. \nSven Fridolfsson\, som tillsammans med sin fru Johanna också leder Lutherska missionskyrkans kör\, är psalmgalans arrangör och dirigent: »Det är så otroligt roligt att höra från publiken att när psalmerna får nya musikaliska kläder upptäcker man dem på nytt\, och textrader landar som tidigare gått obemärkt förbi. Det är ju precis det vi vill åstadkomma« säger Sven. \nAlla biljettintäkter\, liksom insamlingen under kvällen\, går oavkortat till EFS arbete i Somalia som man bedriver genom den inhemska organisationen Warsan. »Jag är stolt över att vara med och bidra till det otroligt gedigna arbete som Warsan bedriver bland Somalias internflyktingar« säger Rebecka Bramsved\, »som barn- och allmänläkare förundras jag över hur strategiskt de har utbildat en stor mängd lokala sjukvårdare i basal hälsa- och sjukvård som tillsammans med en mobil klinik åstadkommit minskad mödra- och spädbarnsdödlighet med små medel. Och att satsningen på skolluncher resulterat i ökad närvaro i skolan är ett hoppfullt tecken inför framtiden. Vi hoppas på att kunna bidra ännu mer tillsammans med deltagarna på psalmgalan.« \n»Att vara med och sjunga psalmer och lovsånger tillsammans med kör och orkester är en mäktig upplevelse som blir allra bäst på plats« säger Johanna Fridolfsson. »Men för de som inte har möjlighet att ta sig till Annedalskyrkan i Göteborg\, sänder EFS Play psalmgalan live på Youtube.« \nKlicka här för att köpa din biljett. \nSe Psalmgalan direktsänd här.
URL:https://www.efs.nu/kalender/psalmgalan-sjung-for-livet2026/
CATEGORIES:EFS
END:VEVENT
BEGIN:VEVENT
DTSTART;TZID=Europe/Stockholm:20260308T110000
DTEND;TZID=Europe/Stockholm:20260308T130000
DTSTAMP:20260419T151300
CREATED:20260202T104731Z
LAST-MODIFIED:20260202T104731Z
UID:72659-1772967600-1772974800@www.efs.nu
SUMMARY:8/3 Stockholm – Kerstin Oderhem talar i Hammarbykyrkan om Kampen mot ondskan kl 11.00.
DESCRIPTION:8/3 Stockholm – Kerstin Oderhem talar i Hammarbykyrkan om Kampen mot ondskan på gudstjänsten kl 11.00.
URL:https://www.efs.nu/kalender/8-3-stockholm-kerstin-oderhem-talar-i-hammarbykyrkan-om-kampen-mot-ondskan-kl-11-00/
CATEGORIES:EFS,Mittsverige
ATTACH;FMTTYPE=image/jpeg:https://www.efs.nu/wp-content/uploads/2025/10/MisAmb_EFSnu.jpg
END:VEVENT
BEGIN:VEVENT
DTSTART;VALUE=DATE:20260314
DTEND;VALUE=DATE:20260315
DTSTAMP:20260419T151300
CREATED:20260212T104604Z
LAST-MODIFIED:20260212T105106Z
UID:72744-1773446400-1773532799@www.efs.nu
SUMMARY:EFS Norrbottens missionsdag
DESCRIPTION:Välkommen till EFS Norrbottens missionsdag i Vidsel!\nTillsammans med internationella gäster från Tanzania vandrar vi i Storforsen. På eftermiddagen samlas vi på Vidsels EFS för en missionseftermiddag. \nDatum: 14 mars\nPlats: Storforsen och Vidsels EFS \nProgram: \n10:30     Samling på övre parkeringen\, Storforsen\nGuidad tur med Thomas Öberg. Medtag egen lunch/fika. Möjlighet att grilla finns. \n14:00     Samling i Vidsels EFS.\nMissionsinformation och gudstjänst med predikan av Stephano Maketa\, präst i Ilula.\nServering med pepparsåsmacka samt fika. \nFrågor: Kontakta EFS Norrbottens missionsråd\nMarie Gustavsson \nMarie Edfast
URL:https://www.efs.nu/kalender/efs-norrbottens-missionsdag/
CATEGORIES:Norrbotten
ATTACH;FMTTYPE=image/png:https://www.efs.nu/wp-content/uploads/2026/02/Kurser-2.png
END:VEVENT
BEGIN:VEVENT
DTSTART;TZID=Europe/Stockholm:20260318T180000
DTEND;TZID=Europe/Stockholm:20260318T200000
DTSTAMP:20260419T151300
CREATED:20260311T124349Z
LAST-MODIFIED:20260312T081609Z
UID:72890-1773856800-1773864000@www.efs.nu
SUMMARY:Informationsträff
DESCRIPTION:Har du en uppgift på konferensen? Vill du hjälpa till att bära stolar\, servera fika eller engagera dig på annat sätt?\nVi hälsar alla som har någon uppgift på årsmöteskonferensen varmt välkomna till en informationsträff. Vi kommer att träffa Viola Soto\, ansvarig för planeringen av konferensen\, och få mer information om vad som kommer.\n\nVi bjuder på fika! Välkommen!\nTid: 18 mars kl. 18:30Lokal: Foajén utanför Christinasalen\, Piteå
URL:https://www.efs.nu/kalender/informationstraff/
CATEGORIES:Norrbotten
END:VEVENT
BEGIN:VEVENT
DTSTART;TZID=Europe/Stockholm:20260322T143000
DTEND;TZID=Europe/Stockholm:20260322T200000
DTSTAMP:20260419T151300
CREATED:20260226T114735Z
LAST-MODIFIED:20260226T121948Z
UID:72818-1774189800-1774209600@www.efs.nu
SUMMARY:En eftermiddag om bön
DESCRIPTION:”Herre lär oss att be”\, sa de första lärjungarna till Jesus. Kring samma önskan samlas vi en eftermiddag på Storstrand. Det blir korta delanden om både bönens hur och varför men också om den bön som bara är en viskning. \nNär? Söndag 22 mars\nVar? Storstrand\nMedverkande: Miriam Eriksson\, Ola Marklund\, Mats Berggren med flera. \nProgram \n14.30 Drop in-fika \n15.00 Start \n17.00 Enkel middag \n18.00 Fortsättning \n19.00 Bön tillsammans med ”Söndagsbönegruppen” inför EFS Årskonferens
URL:https://www.efs.nu/kalender/en-eftermiddag-om-bon/
LOCATION:Storstrand kursgård
CATEGORIES:Norrbotten
END:VEVENT
END:VCALENDAR