BEGIN:VCALENDAR
VERSION:2.0
PRODID:-//EFS - ECPv5.5.0.1//NONSGML v1.0//EN
CALSCALE:GREGORIAN
METHOD:PUBLISH
X-WR-CALNAME:EFS
X-ORIGINAL-URL:https://www.efs.nu
X-WR-CALDESC:Events for EFS
BEGIN:VTIMEZONE
TZID:Europe/Stockholm
BEGIN:DAYLIGHT
TZOFFSETFROM:+0100
TZOFFSETTO:+0200
TZNAME:CEST
DTSTART:20250330T010000
END:DAYLIGHT
BEGIN:STANDARD
TZOFFSETFROM:+0200
TZOFFSETTO:+0100
TZNAME:CET
DTSTART:20251026T010000
END:STANDARD
END:VTIMEZONE
BEGIN:VEVENT
DTSTART;TZID=Europe/Stockholm:20251121T101500
DTEND;TZID=Europe/Stockholm:20251121T110000
DTSTAMP:20260419T141006
CREATED:20251120T152333Z
LAST-MODIFIED:20251120T152333Z
UID:72324-1763720100-1763722800@www.efs.nu
SUMMARY:Bönesamling för Tanzania
DESCRIPTION:EFS utsända missionärer Rickard och Emmeli leder en bön för Tanzania och den politiska situationen där. Klicka här för att delta på Google Meet.
URL:https://www.efs.nu/kalender/bonesamling-for-tanzania/
CATEGORIES:EFS,Norrbotten
END:VEVENT
END:VCALENDAR