BEGIN:VCALENDAR
VERSION:2.0
PRODID:-//EFS - ECPv5.5.0.1//NONSGML v1.0//EN
CALSCALE:GREGORIAN
METHOD:PUBLISH
X-WR-CALNAME:EFS
X-ORIGINAL-URL:https://www.efs.nu
X-WR-CALDESC:Events for EFS
BEGIN:VTIMEZONE
TZID:Europe/Stockholm
BEGIN:DAYLIGHT
TZOFFSETFROM:+0100
TZOFFSETTO:+0200
TZNAME:CEST
DTSTART:20260329T010000
END:DAYLIGHT
BEGIN:STANDARD
TZOFFSETFROM:+0200
TZOFFSETTO:+0100
TZNAME:CET
DTSTART:20261025T010000
END:STANDARD
END:VTIMEZONE
BEGIN:VEVENT
DTSTART;TZID=Europe/Stockholm:20260530T090000
DTEND;TZID=Europe/Stockholm:20260530T170000
DTSTAMP:20260424T153439
CREATED:20260423T092732Z
LAST-MODIFIED:20260423T113116Z
UID:73130-1780131600-1780160400@www.efs.nu
SUMMARY:Fixardag
DESCRIPTION:Vi tar tillsammans hand om vårt Storstrand och samlas till en dag av gemenskap och arbete.\nDet blir en hel del utvändig målning även detta år (ta gärna med egen pensel) samt städning. \n\nVi vill att alla ska kunna vara med!\nFör barnen kommer det att finnas lite olika aktiviteter. För dig som känner att det är för tungt att arbeta kan du komma och bara dela gemenskapen. \n\nVi bjuder självklart på lunch\, kaffe\,\nmellanmål och glass till alla barn.\n\nDet går självklart bra att droppa in\neller ut som det passar. \n\nMåndag 1 juni kl. 8.00-16.00 fortsätter vi arbetet för de som kan.\nVälkommen!
URL:https://www.efs.nu/kalender/fixardag/
LOCATION:Storstrand kursgård
CATEGORIES:Norrbotten
END:VEVENT
END:VCALENDAR