BEGIN:VCALENDAR
VERSION:2.0
PRODID:-//EFS - ECPv5.5.0.1//NONSGML v1.0//EN
CALSCALE:GREGORIAN
METHOD:PUBLISH
X-WR-CALNAME:EFS
X-ORIGINAL-URL:https://www.efs.nu
X-WR-CALDESC:Events for EFS
BEGIN:VTIMEZONE
TZID:Europe/Stockholm
BEGIN:DAYLIGHT
TZOFFSETFROM:+0100
TZOFFSETTO:+0200
TZNAME:CEST
DTSTART:20250330T010000
END:DAYLIGHT
BEGIN:STANDARD
TZOFFSETFROM:+0200
TZOFFSETTO:+0100
TZNAME:CET
DTSTART:20251026T010000
END:STANDARD
END:VTIMEZONE
BEGIN:VEVENT
DTSTART;TZID=Europe/Stockholm:20251029T130000
DTEND;TZID=Europe/Stockholm:20251029T150000
DTSTAMP:20260419T141852
CREATED:20251021T120029Z
LAST-MODIFIED:20251022T122018Z
UID:72098-1761742800-1761750000@www.efs.nu
SUMMARY:Holmsund\, Peo och Kerstin Einemo talar om mission\, kl 13.00
DESCRIPTION:Solbackaträffen för daglediga. Glimtar från missionärsfamiljs liv och leverne som vi upplevde det\, med Peo och Kerstin Einemo
URL:https://www.efs.nu/kalender/holmsund-peo-och-kerstin-einemo-talar-om-mission-kl-13-00/
LOCATION:Solbackakyrkan EFS\, Visgränd 4\, Holmsund\, 913 32
CATEGORIES:EFS
ATTACH;FMTTYPE=image/jpeg:https://www.efs.nu/wp-content/uploads/2025/10/MisAmb_EFSnu.jpg
END:VEVENT
END:VCALENDAR