BEGIN:VCALENDAR
VERSION:2.0
PRODID:-//EFS - ECPv5.5.0.1//NONSGML v1.0//EN
CALSCALE:GREGORIAN
METHOD:PUBLISH
X-WR-CALNAME:EFS
X-ORIGINAL-URL:https://www.efs.nu
X-WR-CALDESC:Events for EFS
BEGIN:VTIMEZONE
TZID:Europe/Stockholm
BEGIN:DAYLIGHT
TZOFFSETFROM:+0100
TZOFFSETTO:+0200
TZNAME:CEST
DTSTART:20220327T010000
END:DAYLIGHT
BEGIN:STANDARD
TZOFFSETFROM:+0200
TZOFFSETTO:+0100
TZNAME:CET
DTSTART:20221030T010000
END:STANDARD
END:VTIMEZONE
BEGIN:VEVENT
DTSTART;TZID=Europe/Stockholm:20220913T190000
DTEND;TZID=Europe/Stockholm:20220913T200000
DTSTAMP:20260424T181714
CREATED:20220907T092222Z
LAST-MODIFIED:20220907T092222Z
UID:65476-1663095600-1663099200@www.efs.nu
SUMMARY:Internationell kväll – Barnrättsperspektiv i Tanzania
DESCRIPTION:Välkommen till internationell kväll! \nDen här kvällen samtalar Erik Johansson med Hannes Sandahl som är socionom och utsänd av EFS till Iringa stift i Tanzania. \nHannes arbetar med diakoni och med fokus på barns rättigheter. Hannes har nyligen varit på studieresa med “Ur askan i elden”\, ett projekt som Erikshjälpen och Childhood har för att begränsa att barn far illa på barnhem. \nVåra internationella kvällar sänds på Facebook och det går bra att delta utan att ha ett Facebook-konto. Följ bara länken https://www.facebook.com/efs.nu \nGe en gåva till EFS mission! \nSwish 901 00 26 eller Bg 900-9903.
URL:https://www.efs.nu/kalender/internationell-kvall-barnrattsperspektiv-i-tanzania/
CATEGORIES:Online
ATTACH;FMTTYPE=image/png:https://www.efs.nu/wp-content/uploads/2022/09/13-sep-fb.png
END:VEVENT
END:VCALENDAR