BEGIN:VCALENDAR
VERSION:2.0
PRODID:-//EFS - ECPv5.5.0.1//NONSGML v1.0//EN
CALSCALE:GREGORIAN
METHOD:PUBLISH
X-WR-CALNAME:EFS
X-ORIGINAL-URL:https://www.efs.nu
X-WR-CALDESC:Events for EFS
BEGIN:VTIMEZONE
TZID:Europe/Stockholm
BEGIN:DAYLIGHT
TZOFFSETFROM:+0100
TZOFFSETTO:+0200
TZNAME:CEST
DTSTART:20220327T010000
END:DAYLIGHT
BEGIN:STANDARD
TZOFFSETFROM:+0200
TZOFFSETTO:+0100
TZNAME:CET
DTSTART:20221030T010000
END:STANDARD
END:VTIMEZONE
BEGIN:VEVENT
DTSTART;TZID=Europe/Stockholm:20220106T190000
DTEND;TZID=Europe/Stockholm:20220106T200000
DTSTAMP:20260424T150411
CREATED:20210824T122852Z
LAST-MODIFIED:20211206T143706Z
UID:62537-1641495600-1641499200@www.efs.nu
SUMMARY:Internationell kväll – Fira trettondedag jul med Erik Johansson
DESCRIPTION:Välkommen att fira trettondedag jul med EFS internationella missionssekreterare Erik Johansson som ger oss tillbakablickar från EFS internationella mission under året som gått. Och så blickar vi framåt; hur håller vi fast vid gamla relationer och vågar vidare till nya platser enligt missionsuppdraget? \nJesus manade sina lärjungar att lyfta blicken ”och se hur fälten har vitnat till skörd”. Skörden står mogen\, möjligheterna är stora! \nVåra internationella kvällar sänds på Facebook och det går bra att delta utan att ha ett Facebook-konto. Följ endast länken https://www.facebook.com/efs.nu \nVill du ge en gåva till EFS internationella mission? Trettondedagsinsamlingen pågår 3–31 januari. \nSwish 901 00 26 eller Bg 900-9903.\nSkriv “13dag” i meddelandet.
URL:https://www.efs.nu/kalender/internationell-kvall-fira-trettondedag-jul-med-erik-johansson/
LOCATION:online
CATEGORIES:Online
ATTACH;FMTTYPE=image/jpeg:https://www.efs.nu/wp-content/uploads/2021/03/EFS_Intkväll_facebook_eventcover.jpg
END:VEVENT
END:VCALENDAR