BEGIN:VCALENDAR
VERSION:2.0
PRODID:-//EFS - ECPv5.5.0.1//NONSGML v1.0//EN
CALSCALE:GREGORIAN
METHOD:PUBLISH
X-WR-CALNAME:EFS
X-ORIGINAL-URL:https://www.efs.nu
X-WR-CALDESC:Events for EFS
BEGIN:VTIMEZONE
TZID:Europe/Stockholm
BEGIN:DAYLIGHT
TZOFFSETFROM:+0100
TZOFFSETTO:+0200
TZNAME:CEST
DTSTART:20210328T010000
END:DAYLIGHT
BEGIN:STANDARD
TZOFFSETFROM:+0200
TZOFFSETTO:+0100
TZNAME:CET
DTSTART:20211031T010000
END:STANDARD
END:VTIMEZONE
BEGIN:VEVENT
DTSTART;TZID=Europe/Stockholm:20210105T190000
DTEND;TZID=Europe/Stockholm:20210105T200000
DTSTAMP:20260425T152954
CREATED:20201214T161517Z
LAST-MODIFIED:20201214T161517Z
UID:60381-1609873200-1609876800@www.efs.nu
SUMMARY:Internationell kväll på trettondagsafton
DESCRIPTION:Tisdag den 5 januari kl. 19:00-20:00 \nVälkommen till Internationell kväll med Erik Johansson som gästas av Tilda Clewemar. Tilda är volontär och undervisar EFS-missionärernas barn i Addis Abeba\, Etiopien. Denna kväll kommer hon att berätta från sin första termin där.\n\nVåra internationella kvällar sänds på Facebook och det går bra att delta utan att ha ett Facebook-konto. Följ endast länken https://www.facebook.com/efs.nu.
URL:https://www.efs.nu/kalender/internationell-kvall-pa-trettondagsafton/
ATTACH;FMTTYPE=image/png:https://www.efs.nu/wp-content/uploads/2020/12/EFS_intkväll_instagram-2.png11.png
END:VEVENT
END:VCALENDAR