BEGIN:VCALENDAR
VERSION:2.0
PRODID:-//EFS - ECPv5.5.0.1//NONSGML v1.0//EN
CALSCALE:GREGORIAN
METHOD:PUBLISH
X-WR-CALNAME:EFS
X-ORIGINAL-URL:https://www.efs.nu
X-WR-CALDESC:Events for EFS
BEGIN:VTIMEZONE
TZID:Europe/Stockholm
BEGIN:DAYLIGHT
TZOFFSETFROM:+0100
TZOFFSETTO:+0200
TZNAME:CEST
DTSTART:20190331T010000
END:DAYLIGHT
BEGIN:STANDARD
TZOFFSETFROM:+0200
TZOFFSETTO:+0100
TZNAME:CET
DTSTART:20191027T010000
END:STANDARD
BEGIN:DAYLIGHT
TZOFFSETFROM:+0100
TZOFFSETTO:+0200
TZNAME:CEST
DTSTART:20200329T010000
END:DAYLIGHT
BEGIN:STANDARD
TZOFFSETFROM:+0200
TZOFFSETTO:+0100
TZNAME:CET
DTSTART:20201025T010000
END:STANDARD
END:VTIMEZONE
BEGIN:VEVENT
DTSTART;VALUE=DATE:20191228
DTEND;VALUE=DATE:20200102
DTSTAMP:20260420T101806
CREATED:20191022T141337Z
LAST-MODIFIED:20191022T141337Z
UID:56195-1577491200-1577923199@www.efs.nu
SUMMARY:Livskraft Mitt 19/20
DESCRIPTION:Årets läger kommer att äga rum i Lötenkyrkan mellan den 28/12 och 1/1.  Varmt välkommen! \nNär? Lägret börjar 28 december med incheckning från 17:00\, och slutar 1 januari efter lunch. \nVar? Vi håller till i Lötenkyrkan\, Uppsala. \nHur? Vi kommer att sova på golv i klassrum så du behöver ha med dig liggunderlag/luftmadrass och sovsäck. \nPris? Lägret kostar 1150 kr men om du anmäler dig innan den 1a dec kostar det endast 1050 kr.\nGlöm inte bort att du kan söka bidrag från din lokala församling eller från Salt Riks lägerfond.
URL:https://www.efs.nu/kalender/livskraft-mitt-19-20/
LOCATION:Lötenkyrkan\, Uppsala\, Lötenkyrkan\, Uppsala\, Sweden
END:VEVENT
END:VCALENDAR