BEGIN:VCALENDAR
VERSION:2.0
PRODID:-//EFS - ECPv5.5.0.1//NONSGML v1.0//EN
CALSCALE:GREGORIAN
METHOD:PUBLISH
X-WR-CALNAME:EFS
X-ORIGINAL-URL:https://www.efs.nu
X-WR-CALDESC:Events for EFS
BEGIN:VTIMEZONE
TZID:Europe/Stockholm
BEGIN:DAYLIGHT
TZOFFSETFROM:+0100
TZOFFSETTO:+0200
TZNAME:CEST
DTSTART:20260329T010000
END:DAYLIGHT
BEGIN:STANDARD
TZOFFSETFROM:+0200
TZOFFSETTO:+0100
TZNAME:CET
DTSTART:20261025T010000
END:STANDARD
END:VTIMEZONE
BEGIN:VEVENT
DTSTART;TZID=Europe/Stockholm:20261119T093000
DTEND;TZID=Europe/Stockholm:20261119T153000
DTSTAMP:20260424T132632
CREATED:20260423T081252Z
LAST-MODIFIED:20260423T081252Z
UID:73126-1795080600-1795102200@www.efs.nu
SUMMARY:Samverkanskonferensen 2026
DESCRIPTION:Samverkanskonferensen EFS-Svenska kyrkan\nTema: Ett hus med många rum\nTorsdagen den 19 november 09:30-15.30\nPlats: Lötenkyrkan i Uppsala\n\nMer information kommer.
URL:https://www.efs.nu/kalender/samverkanskonferensen-2026/
LOCATION:Lötenkyrkan\, Uppsala\, Lötenkyrkan\, Uppsala\, Sweden
CATEGORIES:EFS
END:VEVENT
END:VCALENDAR