BEGIN:VCALENDAR
VERSION:2.0
PRODID:-//EFS - ECPv5.5.0.1//NONSGML v1.0//EN
CALSCALE:GREGORIAN
METHOD:PUBLISH
X-WR-CALNAME:EFS
X-ORIGINAL-URL:https://www.efs.nu
X-WR-CALDESC:Events for EFS
BEGIN:VTIMEZONE
TZID:Europe/Stockholm
BEGIN:DAYLIGHT
TZOFFSETFROM:+0100
TZOFFSETTO:+0200
TZNAME:CEST
DTSTART:20250330T010000
END:DAYLIGHT
BEGIN:STANDARD
TZOFFSETFROM:+0200
TZOFFSETTO:+0100
TZNAME:CET
DTSTART:20251026T010000
END:STANDARD
END:VTIMEZONE
BEGIN:VEVENT
DTSTART;VALUE=DATE:20251104
DTEND;VALUE=DATE:20251119
DTSTAMP:20260419T141756
CREATED:20251014T075733Z
LAST-MODIFIED:20251023T085227Z
UID:72074-1762214400-1763510399@www.efs.nu
SUMMARY:Vägvisare - två kvällar om andligt ledarskap (Luleå)
DESCRIPTION:Vi  utövar alla andligt ledarskap när vi visar gästfrihet\, samtalar\, undervisar\, leder och vägleder\, sjunger\, ber och när vi bjuder andra in i församlingens och Kristi gemenskap. Under dessa kvällar utforskar vi ämnet andligt ledarskap och funderar över vad Gud har anförtrott oss\, under ledning av Antti Miettinen\, Älvsby folkhögskola \nDetta är en repris av kursen som hölls på Storstrand. Denna gång håller vi till i Luleå.\nAnmäl dig gärna till Anton Björkman: anton.bjorkman@efs.nu \nTisdagar 4 och 18 november 18:30 \nEFS Luleå \n(Samarbete med Älvsby Folkhögskola)
URL:https://www.efs.nu/kalender/vagvisare-tva-kvallar-om-andligt-ledarskap-lulea/
CATEGORIES:Norrbotten
ATTACH;FMTTYPE=image/png:https://www.efs.nu/wp-content/uploads/2025/08/Kurser-e1761738045404.png
END:VEVENT
END:VCALENDAR